BEGIN:VCALENDAR
PRODID:-//AT Content Types//AT Event//EN
VERSION:2.0
METHOD:PUBLISH
BEGIN:VEVENT
DTSTAMP:20260419T130901Z
CREATED:20231011T161537Z
UID:ATEvent-4a6173ee67a04e3fbb2078a13a12d97b
LAST-MODIFIED:20231016T091755Z
SUMMARY:Colchester Business Park and Greenstead Community Centre
DTSTART:20231102T110000Z
DTEND:20231102T180000Z
DESCRIPTION:Come and speak to us at Colchester Business Park and/or th
 e Greenstead Community Centre about our proposed walking and cycling r
 oute between the business park and Greenstead.\n\nDetails:\nThe Cresce
 nt\, Colchester Business Park CO4 9YQ \nThursday 2nd November 2023 \n1
 1:00 – 14:00 \n\nAND\n\nThe Greenstead Community Centre\, Hawthorn A
 venue\, Colchester CO4 3QE\nThursday 2nd November 2023\n13:00 – 18:0
 0
CLASS:PUBLIC
END:VEVENT
END:VCALENDAR
